BEGIN:VCALENDAR
VERSION:2.0
PRODID:-//Is Animal Guide - ECPv6.15.14//NONSGML v1.0//EN
CALSCALE:GREGORIAN
METHOD:PUBLISH
X-WR-CALNAME:Is Animal Guide
X-ORIGINAL-URL:https://isanimalguide.com
X-WR-CALDESC:Eventi per Is Animal Guide
REFRESH-INTERVAL;VALUE=DURATION:PT1H
X-Robots-Tag:noindex
X-PUBLISHED-TTL:PT1H
BEGIN:VTIMEZONE
TZID:Europe/Paris
BEGIN:DAYLIGHT
TZOFFSETFROM:+0100
TZOFFSETTO:+0200
TZNAME:CEST
DTSTART:20250330T010000
END:DAYLIGHT
BEGIN:STANDARD
TZOFFSETFROM:+0200
TZOFFSETTO:+0100
TZNAME:CET
DTSTART:20251026T010000
END:STANDARD
BEGIN:DAYLIGHT
TZOFFSETFROM:+0100
TZOFFSETTO:+0200
TZNAME:CEST
DTSTART:20260329T010000
END:DAYLIGHT
BEGIN:STANDARD
TZOFFSETFROM:+0200
TZOFFSETTO:+0100
TZNAME:CET
DTSTART:20261025T010000
END:STANDARD
BEGIN:DAYLIGHT
TZOFFSETFROM:+0100
TZOFFSETTO:+0200
TZNAME:CEST
DTSTART:20270328T010000
END:DAYLIGHT
BEGIN:STANDARD
TZOFFSETFROM:+0200
TZOFFSETTO:+0100
TZNAME:CET
DTSTART:20271031T010000
END:STANDARD
END:VTIMEZONE
BEGIN:VEVENT
DTSTART;TZID=Europe/Paris:20260501T090000
DTEND;TZID=Europe/Paris:20260502T130000
DTSTAMP:20260419T163054
CREATED:20260403T134836Z
LAST-MODIFIED:20260403T134837Z
UID:2529-1777626000-1777726800@isanimalguide.com
SUMMARY:WEEKEND SCIAMANICO 1-2 MAGGIO 2026
DESCRIPTION:🌿 WEEKEND SCIAMANICO\nMorte simbolica • Trasformazione • Rinascita\n📅 1–2 Maggio\n📍 Casa Tassala – Ovada \nNel cuore della primavera attraverseremo insieme un portale energetico di trasformazione.\nQuesto periodo dell’anno rappresenta naturalmente il ciclo della morte e della rinascita\, quando la natura lascia andare ciò che è finito e la vita torna a fiorire. \nAnche nel cammino sciamanico si attraversa il buio per ritrovare la luce:\nsi discende nelle profondità interiori per rinascere trasformati e più consapevoli. \nQuesto weekend sarà un viaggio iniziatico per: \n• lasciare andare ciò che è finito\n• incontrare gli alleati invisibili\n• rinascere con un nuovo potere \n\n🌑 VENERDÌ 1 MAGGIO\nIl Giorno della Discesa e della Trasformazione\n9.30 – 10.00\nCerchio di apertura – Creazione dello spazio sacro e dichiarazione dell’intento. \n10.00 – 11.00\nStretching & Flexibility energetico – Risveglio del corpo e apertura dei canali. \n11.30 – 13.00\nEcstatic Dance – Danza dell’Anima. \n13.00 – 14.00\nPausa pranzo consapevole. \n14.00 – 15.00\nMomento di relax e visita allo stand di IS Animal Guide. \n15.00 – 17.00\nViaggio sciamanico – Ricevere il Dono \n17.15 – 18.30\nCostruzione e consacrazione dell’Oggetto di Potere. \n18.40 – 19.30\nApertura stand IS Animal Guide. \n20.00\nCena. \n\n🌅 SABATO 2 MAGGIO\nIl Giorno della Rinascita\n9.00 – 9.30\nCentratura e meditazione sciamanica di allineamento dei chakra. \n9.30 – 10.30\nSpazio creativo per connettersi alla propria anima e rappresentare la visione. \n10.45 – 12.30\nViaggio sciamanico – Incontro con l’Animale Guida. \n12.30\nChiusura del cerchio e benedizione finale. \n\n🌿 Per chi è questo weekend?\nPer chi sente un passaggio interiore.\nPer chi desidera lasciare andare qualcosa.\nPer chi vuole rinascere più centrato\, più connesso e più autentico. \nNon è necessario avere esperienza precedente. \n\n💰 Prezzi\nWeekend completo: 190 € \nEarly bird entro il 22 aprile: 170 € \nVenerdì 1 maggio: 150 € \nMezza giornata sabato 2 maggio: 40 € \n\n🏡 Pernottamento\nPernottamento con sacco a pelo nel salone: 15 €\n(colazione inclusa) \nDISPONIBILI ANCORA LETTI IN CALERE DA TRE \nCena facoltativa: 20 € a persona bevande incluse \ncena consegnata in struttura dal ristorante Insieme (opzione vegana disponibile). \n\n🎒 Cosa portare\n• tappetino da yoga\n• benda o foulard per gli occhi\n• abiti comodi\n• matite\, pennarelli o colori\n• fogli A4 o cartoncino \n\n👥 Conduttori\nIrene e Stefano \n📍 Luogo\nCasa Tassala – Ovada \n⚠️ Prenotazione obbligatoria – posti limitati \n📞 Info e prenotazioni\nIrene – 3495514345 \nVanessa- 347 172 22 21 \n🌐 www.isanimalguide.com\nInstagram: isanimalguide / ireneolisticm
URL:https://isanimalguide.com/event/weekend-sciamanico-1-2-maggio-2026/
LOCATION:OVADA\, Strada Novi 53 A\, Ovada
ATTACH;FMTTYPE=image/png:https://isanimalguide.com/wp-content/uploads/2026/04/casa-Tessala-locandina-weekend-maggio-da-inviare.png
END:VEVENT
END:VCALENDAR